BEGIN:VCALENDAR
VERSION:2.0
PRODID:-//wp-events-plugin.com//7.2.3.1//EN
TZID:Europe/Paris
X-WR-TIMEZONE:Europe/Paris
BEGIN:VEVENT
UID:15@wonder-entrepreneuses.com
DTSTART;TZID=Europe/Paris:20240402T110000
DTEND;TZID=Europe/Paris:20240402T123000
DTSTAMP:20240311T095114Z
URL:https://wonder-entrepreneuses.com/events/viser-haut-%f0%9f%8e%af-avril
 /
SUMMARY:Viser Haut 🎯 - Avril
DESCRIPTION:VISER HAUT\, la visio pour débuter ton mois avec clarté et am
 bition 💪\n⚡️ Attention NOUVEAU rdv Wonder. ⚡️\n\nChaque début 
 de mois\, un rdv pour t'aider à aborder tes prochaines 4 semaines avec mo
 tivation et clarté\n\nObjectifs : 🎯\n\n 	✍️ faire son bilan du moi
 s dernier\n 	👌 (re)déterminer ses objectifs du mois à venir\n 	😎 s
 'engager auprès de soi-même et des autres (toi même tu sais que lorsqu'
 on parle de nos objectifs à nos collègues\, un effet magique d'actions s
 e crée #jaiditjefais \;)\n 	🤝 créer des groupes entre vous d'entraide
  et de motivation pour garder le cap pendant le mois\n 	🤗 partager avec
  des collègues entrepreneuses qui rencontrent les mêmes étapes que toi\
 n\n🤓 Animer par une super coach mindset &amp\; entrepreneuriat et facil
 itatrice (je parle de moi évidemment :)\n\nUn template te sera envoyé qu
 elques jours avant pour t'aider à préparer chaque mois ce moment. #effic
 acité\n\nHâte de te retrouver pour t'accompagner lors de cette visio pou
 r viser haut (le jeu de mot\, c'est bonus :)\n\nCaroline\n\n&nbsp\;\n\n&nb
 sp\;\n\n&nbsp\;
ATTACH;FMTTYPE=image/jpeg:https://wonder-entrepreneuses.com/wp-content/upl
 oads/2024/03/Capture-decran-2024-03-10-a-10.43.41.png
CATEGORIES:Viser haut
END:VEVENT
BEGIN:VTIMEZONE
TZID:Europe/Paris
X-LIC-LOCATION:Europe/Paris
BEGIN:DAYLIGHT
DTSTART:20240331T030000
TZOFFSETFROM:+0100
TZOFFSETTO:+0200
TZNAME:CEST
END:DAYLIGHT
END:VTIMEZONE
END:VCALENDAR