BEGIN:VCALENDAR
VERSION:2.0
PRODID:-//wp-events-plugin.com//7.2.3.1//EN
TZID:Europe/Paris
X-WR-TIMEZONE:Europe/Paris
BEGIN:VEVENT
UID:10@wonder-entrepreneuses.com
DTSTART;TZID=Europe/Paris:20240328T093000
DTEND;TZID=Europe/Paris:20240328T114500
DTSTAMP:20240309T152630Z
URL:https://wonder-entrepreneuses.com/events/petit-dej-boost/
SUMMARY:Petit dej BOOST - mars
DESCRIPTION:Motivation\, entraide et mises en action pour le petit-dej. 
 🍊\nLe Wonder Petit-dej Boost'\, c'est le rdv qui vient vitaminer ton r
 éseau et tes actions\, mieux qu'un shoot de jus d'orange pressé. 🧃\n\
 nRepartis en petits groupes selon des thématiques\, votre mission est de 
 relever des défis (sans prise de tête\, dans la convivialité et que dan
 s l'intérêt de ton activité) de table en table pour repartir avec des c
 ontacts\, des idées des bons tuyaux et de la motivation. 🎯\n\nL'occasi
 on de déployer ton réseau\, tout en profitant d'échanges boostant et de
  qualité\, avec la présence d'Expertes pour vous accompagner si besoin 
 💪\n\nAu programme donc :\n\n 	☕️ petit-dej en convivialité\n 	🗣
  échanges en petits groupes\n 	✍️ des actions à mener pour booster t
 on activité (sans prise de tête)\n 	💫 de quoi déployer ton réseau e
 t ta visibilité en une matinée\n 	⚡️de la bonne humeur et de l'entra
 ide à la Wonder\n\nHâte de partager ce cocktail vitaminé avec vous !\n\
 nCaroline\n\n&nbsp\;
ATTACH;FMTTYPE=image/jpeg:https://wonder-entrepreneuses.com/wp-content/upl
 oads/2024/03/Capture-decran-2024-03-09-a-16.17.58.png
CATEGORIES:Petit dej' boost
LOCATION:Brasserie des Dames\, Place Barentin\, La Rochelle\, France\, 1700
 0\, 
X-APPLE-STRUCTURED-LOCATION;VALUE=URI;X-ADDRESS=Place Barentin\, La Rochell
 e\, France\, 17000\, ;X-APPLE-RADIUS=100;X-TITLE=Brasserie des Dames:geo:0
 ,0
END:VEVENT
BEGIN:VTIMEZONE
TZID:Europe/Paris
X-LIC-LOCATION:Europe/Paris
BEGIN:STANDARD
DTSTART:20231029T020000
TZOFFSETFROM:+0200
TZOFFSETTO:+0100
TZNAME:CET
END:STANDARD
END:VTIMEZONE
END:VCALENDAR