BEGIN:VCALENDAR
VERSION:2.0
PRODID:-//wp-events-plugin.com//7.2.3.1//EN
TZID:Europe/Paris
X-WR-TIMEZONE:Europe/Paris
BEGIN:VEVENT
UID:231@wonder-entrepreneuses.com
DTSTART;TZID=Europe/Paris:20260512T090000
DTEND;TZID=Europe/Paris:20260512T103000
DTSTAMP:20260409T084955Z
URL:https://wonder-entrepreneuses.com/events/atelier-les-bonnes-pratiques-
 dutilisation-de-lia/
SUMMARY:Atelier Experte - L’IA au service de ton business
DESCRIPTION:L’IA au service de ton business\nUne matinée immersive pour 
 découvrir concrètement comment l’intelligence artificielle peut deveni
 r un véritable levier dans ton quotidien professionnel.\nAccessible à to
 utes\, même sans aucune connaissance technique\, cet atelier te permettra
  de comprendre simplement ce qu’est l’IA… et surtout comment l’uti
 liser dès maintenant dans ton activité.\nAnimé par Amanda\, spécialist
 e de l’accompagnement des entreprises et entrepreneuses à l’usage de 
 l’IA\, cet atelier est pensé pour être pratique\, concret et directeme
 nt applicable.\n\n\n\n\nAu programme :\n🧠 Comprendre simplement ce qu
 ’est l’intelligence artificielle (sans jargon)🛠️ Découvrir des o
 utils accessibles et puissants (comme ChatGPT)✍️ Apprendre à formuler
  des demandes efficaces (les fameux “prompts”)\n⏱️ Gagner du temps
  sur ses tâches quotidiennes :→ 📝 rédaction de contenus→ 📅 org
 anisation→ 📣 communication\n🎥 Démonstrations en direct + cas conc
 rets🧪 Mini exercices pour tester par toi-même\n\n\n\n\nPourquoi partic
 iper ?\n🚀 Parce que l’IA n’est plus une option\, mais un véritable
  avantage concurrentiel🤔 Parce que tu en entends parler partout… sans
  savoir par où commencer⏳ Parce que tu veux gagner du temps sans sacrif
 ier la qualité📈 Parce que tu veux rester à jour sans te sentir dépas
 sée\n\n\n\n\nCe que tu vas gagner :\n🧩 Une vision claire et décomplex
 ée de l’intelligence artificielle🛠️ Des outils simples utilisables
  dès le lendemain⚡️ Des méthodes concrètes pour aller plus vite au 
 quotidien⏱️ Un vrai gain de temps sur tes tâches répétitives💡 De
  nouvelles idées pour développer ton activité\n✨ Et surtout : la sens
 ation de ne plus subir la technologie\, mais de l’utiliser intelligemmen
 t.\n&nbsp\;\n\nNombre de places limitées à 8 
ATTACH;FMTTYPE=image/jpeg:https://wonder-entrepreneuses.com/wp-content/upl
 oads/2026/04/TEMPLATE-Banniere-WEB-5.png
CATEGORIES:Flash d'experte
LOCATION:Le spot\, 36 avenue du Champ de Mars\, La Rochelle\, France
X-APPLE-STRUCTURED-LOCATION;VALUE=URI;X-ADDRESS=36 avenue du Champ de Mars\
 , La Rochelle\, France;X-APPLE-RADIUS=100;X-TITLE=Le spot:geo:0,0
END:VEVENT
BEGIN:VTIMEZONE
TZID:Europe/Paris
X-LIC-LOCATION:Europe/Paris
BEGIN:DAYLIGHT
DTSTART:20260329T030000
TZOFFSETFROM:+0100
TZOFFSETTO:+0200
TZNAME:CEST
END:DAYLIGHT
END:VTIMEZONE
END:VCALENDAR